BEGIN:VCALENDAR
VERSION:2.0
PRODID:-//LPBA - ECPv6.15.20//NONSGML v1.0//EN
CALSCALE:GREGORIAN
METHOD:PUBLISH
X-ORIGINAL-URL:https://lakeplacidbusinessassociation.com
X-WR-CALDESC:Events for LPBA
REFRESH-INTERVAL;VALUE=DURATION:PT1H
X-Robots-Tag:noindex
X-PUBLISHED-TTL:PT1H
BEGIN:VTIMEZONE
TZID:America/New_York
BEGIN:DAYLIGHT
TZOFFSETFROM:-0500
TZOFFSETTO:-0400
TZNAME:EDT
DTSTART:20200308T070000
END:DAYLIGHT
BEGIN:STANDARD
TZOFFSETFROM:-0400
TZOFFSETTO:-0500
TZNAME:EST
DTSTART:20201101T060000
END:STANDARD
BEGIN:DAYLIGHT
TZOFFSETFROM:-0500
TZOFFSETTO:-0400
TZNAME:EDT
DTSTART:20210314T070000
END:DAYLIGHT
BEGIN:STANDARD
TZOFFSETFROM:-0400
TZOFFSETTO:-0500
TZNAME:EST
DTSTART:20211107T060000
END:STANDARD
BEGIN:DAYLIGHT
TZOFFSETFROM:-0500
TZOFFSETTO:-0400
TZNAME:EDT
DTSTART:20220313T070000
END:DAYLIGHT
BEGIN:STANDARD
TZOFFSETFROM:-0400
TZOFFSETTO:-0500
TZNAME:EST
DTSTART:20221106T060000
END:STANDARD
BEGIN:DAYLIGHT
TZOFFSETFROM:-0500
TZOFFSETTO:-0400
TZNAME:EDT
DTSTART:20230312T070000
END:DAYLIGHT
BEGIN:STANDARD
TZOFFSETFROM:-0400
TZOFFSETTO:-0500
TZNAME:EST
DTSTART:20231105T060000
END:STANDARD
END:VTIMEZONE
BEGIN:VEVENT
DTSTART;TZID=America/New_York:20220412T040000
DTEND;TZID=America/New_York:20220412T050000
DTSTAMP:20260423T193439
CREATED:20220309T233935Z
LAST-MODIFIED:20220309T233935Z
UID:1014-1649736000-1649739600@lakeplacidbusinessassociation.com
SUMMARY:April 2022 Meeting
DESCRIPTION:
URL:https://lakeplacidbusinessassociation.com/event/april-2022-meeting/
LOCATION:Lake Placid Baptist Church\, 2253 Saranac Avenue\, Lake Placid\, New York\, 12946
END:VEVENT
BEGIN:VEVENT
DTSTART;TZID=America/New_York:20220308T030000
DTEND;TZID=America/New_York:20220308T040000
DTSTAMP:20260423T193439
CREATED:20220222T001811Z
LAST-MODIFIED:20220222T001811Z
UID:957-1646708400-1646712000@lakeplacidbusinessassociation.com
SUMMARY:March 2022 Meeting
DESCRIPTION:
URL:https://lakeplacidbusinessassociation.com/event/march-2022-meeting/
LOCATION:Lake Placid Baptist Church\, 2253 Saranac Avenue\, Lake Placid\, New York\, 12946
END:VEVENT
BEGIN:VEVENT
DTSTART;TZID=America/New_York:20220208T030000
DTEND;TZID=America/New_York:20220208T040000
DTSTAMP:20260423T193439
CREATED:20220111T201506Z
LAST-MODIFIED:20220202T235552Z
UID:901-1644289200-1644292800@lakeplacidbusinessassociation.com
SUMMARY:February 2022 Meeting
DESCRIPTION:
URL:https://lakeplacidbusinessassociation.com/event/february-2022-meeting/
LOCATION:Lake Placid Baptist Church\, 2253 Saranac Avenue\, Lake Placid\, New York\, 12946
END:VEVENT
BEGIN:VEVENT
DTSTART;TZID=America/New_York:20220111T030000
DTEND;TZID=America/New_York:20220111T040000
DTSTAMP:20260423T193439
CREATED:20211224T011659Z
LAST-MODIFIED:20211224T011659Z
UID:832-1641870000-1641873600@lakeplacidbusinessassociation.com
SUMMARY:January 2022 Meeting
DESCRIPTION:Location TBD
URL:https://lakeplacidbusinessassociation.com/event/january-2022-meeting/
LOCATION:New York
END:VEVENT
BEGIN:VEVENT
DTSTART;TZID=America/New_York:20211214T030000
DTEND;TZID=America/New_York:20211214T040000
DTSTAMP:20260423T193439
CREATED:20211123T201039Z
LAST-MODIFIED:20211201T013632Z
UID:647-1639450800-1639454400@lakeplacidbusinessassociation.com
SUMMARY:December Meeting
DESCRIPTION:Join us for our December meeting. \n 
URL:https://lakeplacidbusinessassociation.com/event/december-meeting/
LOCATION:Lake Placid Baptist Church\, 2253 Saranac Avenue\, Lake Placid\, New York\, 12946
CATEGORIES:LPBA Meetings
END:VEVENT
BEGIN:VEVENT
DTSTART;VALUE=DATE:20211209
DTEND;VALUE=DATE:20211213
DTSTAMP:20260423T193439
CREATED:20211105T015250Z
LAST-MODIFIED:20211105T023434Z
UID:642-1639076400-1639335599@lakeplacidbusinessassociation.com
SUMMARY:Holiday Village Stroll
DESCRIPTION:The 12th annual Holiday Village Stroll will take place December 10th – 12th. \n2021 events & activities include: \n\nSkating Party\nUgly Sweater Party\nJingle Bell Run\nThe Grinch at Little Blue House\nSanta at Mids Park\nTree Lighting Celebration\nDouble Axel at the Lake House\nPolar Express Free Showing\nSanta’s Fire Truck Parade\nCraft Kits\nScavenger Hunt
URL:https://lakeplacidbusinessassociation.com/event/holiday-village-stroll/
LOCATION:Lake Placid
ATTACH;FMTTYPE=image/jpeg:https://lakeplacidbusinessassociation.com/wp-content/uploads/2021/11/logo.jpg
END:VEVENT
BEGIN:VEVENT
DTSTART;TZID=America/New_York:20211130T123000
DTEND;TZID=America/New_York:20211130T133000
DTSTAMP:20260423T193439
CREATED:20211123T200925Z
LAST-MODIFIED:20211123T200925Z
UID:812-1638275400-1638279000@lakeplacidbusinessassociation.com
SUMMARY:ROOST IRONMAN Survey Call
DESCRIPTION:The IRONMAN survey has been completed and the data compiled. This information will help the IRONMAN Community Task Force better understand the impact of the IRONMAN race on our communities.\n\n\n\n\n\n \n\n\nJoin ROOST for a community call to review the results of the Ironman Survey.\n\n\n \n\n\n\n\n\n\n\n\n\n \n\n\nZoom link: https://us06web.zoom.us/j/84207130698\n\n\nOR\n\n\nCall-in number: 929-205-609\n\n\nMeeting ID: 842 0713 0698
URL:https://lakeplacidbusinessassociation.com/event/roost-ironman-survey-call/
LOCATION:New York
ATTACH;FMTTYPE=image/png:https://lakeplacidbusinessassociation.com/wp-content/uploads/2021/11/Ironman-Call.png
END:VEVENT
BEGIN:VEVENT
DTSTART;TZID=America/New_York:20211109T123000
DTEND;TZID=America/New_York:20211109T150000
DTSTAMP:20260423T193439
CREATED:20211029T214707Z
LAST-MODIFIED:20211108T052856Z
UID:182-1636461000-1636470000@lakeplacidbusinessassociation.com
SUMMARY:November Meeting
DESCRIPTION:Join us to celebrate the halfway point of the Main Street construction project (and what we hope is the other side of COIVD).\n\n\nIt’s a night to meet & mingle with other businesses and have fun! There will be snacks\, an open bar\, and a raffle for local prizes.\n\n\nElections will also take place for the following positions:\n• 2\, two-year Director positions\n• President\n• Vice President\n• Treasurer\n• Secretary\n\n\nWe hope to see you at The Lake Placid Pub and Brewery!
URL:https://lakeplacidbusinessassociation.com/event/november-meeting/
LOCATION:Lake Placid Pub & Brewery
CATEGORIES:LPBA Meetings
ATTACH;FMTTYPE=image/jpeg:https://lakeplacidbusinessassociation.com/wp-content/uploads/2021/10/cropped-cropped-LPBA-1.jpg
END:VEVENT
END:VCALENDAR