BEGIN:VCALENDAR
VERSION:2.0
PRODID:-//LPBA - ECPv6.15.20//NONSGML v1.0//EN
CALSCALE:GREGORIAN
METHOD:PUBLISH
X-WR-CALNAME:LPBA
X-ORIGINAL-URL:https://lakeplacidbusinessassociation.com
X-WR-CALDESC:Events for LPBA
REFRESH-INTERVAL;VALUE=DURATION:PT1H
X-Robots-Tag:noindex
X-PUBLISHED-TTL:PT1H
BEGIN:VTIMEZONE
TZID:America/New_York
BEGIN:DAYLIGHT
TZOFFSETFROM:-0500
TZOFFSETTO:-0400
TZNAME:EDT
DTSTART:20200308T070000
END:DAYLIGHT
BEGIN:STANDARD
TZOFFSETFROM:-0400
TZOFFSETTO:-0500
TZNAME:EST
DTSTART:20201101T060000
END:STANDARD
BEGIN:DAYLIGHT
TZOFFSETFROM:-0500
TZOFFSETTO:-0400
TZNAME:EDT
DTSTART:20210314T070000
END:DAYLIGHT
BEGIN:STANDARD
TZOFFSETFROM:-0400
TZOFFSETTO:-0500
TZNAME:EST
DTSTART:20211107T060000
END:STANDARD
BEGIN:DAYLIGHT
TZOFFSETFROM:-0500
TZOFFSETTO:-0400
TZNAME:EDT
DTSTART:20220313T070000
END:DAYLIGHT
BEGIN:STANDARD
TZOFFSETFROM:-0400
TZOFFSETTO:-0500
TZNAME:EST
DTSTART:20221106T060000
END:STANDARD
BEGIN:DAYLIGHT
TZOFFSETFROM:-0500
TZOFFSETTO:-0400
TZNAME:EDT
DTSTART:20230312T070000
END:DAYLIGHT
BEGIN:STANDARD
TZOFFSETFROM:-0400
TZOFFSETTO:-0500
TZNAME:EST
DTSTART:20231105T060000
END:STANDARD
BEGIN:DAYLIGHT
TZOFFSETFROM:-0500
TZOFFSETTO:-0400
TZNAME:EDT
DTSTART:20240310T070000
END:DAYLIGHT
BEGIN:STANDARD
TZOFFSETFROM:-0400
TZOFFSETTO:-0500
TZNAME:EST
DTSTART:20241103T060000
END:STANDARD
BEGIN:DAYLIGHT
TZOFFSETFROM:-0500
TZOFFSETTO:-0400
TZNAME:EDT
DTSTART:20250309T070000
END:DAYLIGHT
BEGIN:STANDARD
TZOFFSETFROM:-0400
TZOFFSETTO:-0500
TZNAME:EST
DTSTART:20251102T060000
END:STANDARD
END:VTIMEZONE
BEGIN:VEVENT
DTSTART;TZID=America/New_York:20240409T080000
DTEND;TZID=America/New_York:20240409T090000
DTSTAMP:20260423T160118
CREATED:20240115T212217Z
LAST-MODIFIED:20240115T170114Z
UID:1664-1712649600-1712653200@lakeplacidbusinessassociation.com
SUMMARY:LPBA Meeting - April 2024
DESCRIPTION:Join us for our monthly meeting! \nLocation: TBD
URL:https://lakeplacidbusinessassociation.com/event/april-2024-meeting/
END:VEVENT
BEGIN:VEVENT
DTSTART;TZID=America/New_York:20240312T173000
DTEND;TZID=America/New_York:20240312T200000
DTSTAMP:20260423T160118
CREATED:20240115T212723Z
LAST-MODIFIED:20240115T170040Z
UID:1674-1710264600-1710273600@lakeplacidbusinessassociation.com
SUMMARY:LPBA Meeting - March 2024
DESCRIPTION:Join us for an evening social at The Boat Tasting Room! \nMeet & mingle with local business representatives. \nBrief announcements at 6:30pm.
URL:https://lakeplacidbusinessassociation.com/event/march-2024-meeting/
LOCATION:The Boat Tasting Room\, 2617 Main Street\, Lake Placid\, NY\, 12946
END:VEVENT
BEGIN:VEVENT
DTSTART;TZID=America/New_York:20240213T080000
DTEND;TZID=America/New_York:20240213T090000
DTSTAMP:20260423T160118
CREATED:20240115T212046Z
LAST-MODIFIED:20240115T170019Z
UID:1659-1707811200-1707814800@lakeplacidbusinessassociation.com
SUMMARY:LPBA Meeting - February 2024
DESCRIPTION:Join us for our monthly meeting! \nLocation: TBD
URL:https://lakeplacidbusinessassociation.com/event/1659/
END:VEVENT
BEGIN:VEVENT
DTSTART;TZID=America/New_York:20240116T173000
DTEND;TZID=America/New_York:20240116T200000
DTSTAMP:20260423T160118
CREATED:20240115T211540Z
LAST-MODIFIED:20240115T165955Z
UID:1654-1705426200-1705435200@lakeplacidbusinessassociation.com
SUMMARY:LPBA Meeting - January 2024
DESCRIPTION:Please join Flink Maswick Law and Tina Leonard Real Estate at their offices at 2577 Main Street in Lake Placid from 5:30 pm – 8:00 pm to kick off the new year with the Lake Placid Business Association!\n\nMeet & mingle with local business representatives and enjoy a selection of food from Bazzi’s including wings\, strombolis\, jalapeno poppers\, and a veggie platter along with wine\, beer\, and a variety of N/A beverages.\nWe will have brief announcements around 6:30pm.
URL:https://lakeplacidbusinessassociation.com/event/january-2024-meeting/
LOCATION:Flink Maswick Law\, 2577 Main Street\, Lake Placid\, NY\, 12946
END:VEVENT
BEGIN:VEVENT
DTSTART;TZID=America/New_York:20231210T060000
DTEND;TZID=America/New_York:20231210T060000
DTSTAMP:20260423T160118
CREATED:20231025T171809Z
LAST-MODIFIED:20231025T172149Z
UID:1612-1702188000-1702188000@lakeplacidbusinessassociation.com
SUMMARY:Holiday Village Stroll Free Movie: Polar Express
DESCRIPTION:The annual matinee of The Polar Express is back! Put on your comfy holiday pajamas and head down to the Palace Theatre for an 11am showtime. Enjoy free popcorn courtesy of Holiday Stroll’s generous sponsors. The first 200 children (under the age of 12) will receive a special gift!
URL:https://lakeplacidbusinessassociation.com/event/free-movie-polar-express/
LOCATION:The Palace Theatre\, 2430 Main Street\, Lake Placid\, NY\, 12946
END:VEVENT
BEGIN:VEVENT
DTSTART;TZID=America/New_York:20231210T033000
DTEND;TZID=America/New_York:20231210T110000
DTSTAMP:20260423T160118
CREATED:20231025T171557Z
LAST-MODIFIED:20231025T172521Z
UID:1609-1702179000-1702206000@lakeplacidbusinessassociation.com
SUMMARY:Holiday Village Stroll Santa Sunday Ski
DESCRIPTION:The Santa Ski is back! Wear a FULL Santa Costume and get a free lift ticket. Must be in full costume and go to the Whiteface ticket window to receive your lift ticket.\nParticipate in a group photo and a lap down excelsior at the top of Little Whiteface at 11:00 am.
URL:https://lakeplacidbusinessassociation.com/event/santa-sunday-ski/
LOCATION:Whiteface Mountain\, 5021 NY-86\, Wilmington\, NY\, 12997
END:VEVENT
BEGIN:VEVENT
DTSTART;TZID=America/New_York:20231209T120000
DTEND;TZID=America/New_York:20231209T120000
DTSTAMP:20260423T160118
CREATED:20231025T172053Z
LAST-MODIFIED:20231025T172125Z
UID:1618-1702123200-1702123200@lakeplacidbusinessassociation.com
SUMMARY:Holiday Village Stroll Tree Lighting
DESCRIPTION:Join us in Mid’s Park as we light the tree and sign carols!
URL:https://lakeplacidbusinessassociation.com/event/tree-lighting/
LOCATION:Mid’s Park\, 2445 Main Street\, Lake Placid\, NY\, 12946
END:VEVENT
BEGIN:VEVENT
DTSTART;TZID=America/New_York:20231209T083000
DTEND;TZID=America/New_York:20231209T103000
DTSTAMP:20260423T160118
CREATED:20231025T171953Z
LAST-MODIFIED:20231025T172214Z
UID:1615-1702110600-1702117800@lakeplacidbusinessassociation.com
SUMMARY:Holiday Village Stroll Craft Time
DESCRIPTION:
URL:https://lakeplacidbusinessassociation.com/event/craft-time/
LOCATION:St Agnes\, 2322 Saranac Ave\, Lake Placid\, NY\, 12946
END:VEVENT
BEGIN:VEVENT
DTSTART;TZID=America/New_York:20231209T070000
DTEND;TZID=America/New_York:20231209T083000
DTSTAMP:20260423T160118
CREATED:20231025T171030Z
LAST-MODIFIED:20231025T172318Z
UID:1601-1702105200-1702110600@lakeplacidbusinessassociation.com
SUMMARY:Holiday Village Stroll Santa's Arrival + Photos
DESCRIPTION:Get ready to welcome the big guy himself! Santa and his elves will arrive by firetruck to Mid’s Park where they will stop and take photos.\nSanta will stay at Mid’s Park for photos until 1:30pm.\n\nThere will also be free hot chocolate!\n\nThe 2022 Holiday Stroll ornaments will be available for purchase during this time as well.
URL:https://lakeplacidbusinessassociation.com/event/santas-arrival-photos/
LOCATION:Mid’s Park\, 2445 Main Street\, Lake Placid\, NY\, 12946
END:VEVENT
BEGIN:VEVENT
DTSTART;TZID=America/New_York:20231209T060000
DTEND;TZID=America/New_York:20231209T063000
DTSTAMP:20260423T160118
CREATED:20231025T171304Z
LAST-MODIFIED:20231025T172438Z
UID:1604-1702101600-1702103400@lakeplacidbusinessassociation.com
SUMMARY:Holiday Village Stroll Storytime
DESCRIPTION:
URL:https://lakeplacidbusinessassociation.com/event/storytime/
LOCATION:St. Eustace Church\, 2450 Main Street\, Lake Placid\, NY\, 12946
END:VEVENT
BEGIN:VEVENT
DTSTART;TZID=America/New_York:20231209T033000
DTEND;TZID=America/New_York:20231209T033000
DTSTAMP:20260423T160118
CREATED:20231025T171401Z
LAST-MODIFIED:20231025T172502Z
UID:1607-1702092600-1702092600@lakeplacidbusinessassociation.com
SUMMARY:Holiday Village Stroll Jingle Bell Run
DESCRIPTION:
URL:https://lakeplacidbusinessassociation.com/event/jingle-bell-run/
END:VEVENT
BEGIN:VEVENT
DTSTART;TZID=America/New_York:20231208T120000
DTEND;TZID=America/New_York:20231208T133000
DTSTAMP:20260423T160118
CREATED:20231025T170629Z
LAST-MODIFIED:20231025T170629Z
UID:1598-1702036800-1702042200@lakeplacidbusinessassociation.com
SUMMARY:Holiday Village Stroll Skating Party
DESCRIPTION:Join us at the Olympic Center 1932 Rink for a family skating party! There will be skate rentals available onsite. Some little elves also told us that Santa might make an appearance!
URL:https://lakeplacidbusinessassociation.com/event/holiday-village-stroll-skating-party/
LOCATION:1932 Rink\, 2634 Main St\, Lake Placid\, NY\, 12946
END:VEVENT
BEGIN:VEVENT
DTSTART;TZID=America/New_York:20231114T123000
DTEND;TZID=America/New_York:20231114T150000
DTSTAMP:20260423T160118
CREATED:20231011T170109Z
LAST-MODIFIED:20231011T170109Z
UID:1583-1699965000-1699974000@lakeplacidbusinessassociation.com
SUMMARY:November Meeting
DESCRIPTION:Join us for an Evening Social and elections! \nWe have 3 board positions and 4 officer positions available.\nBoard members serve 2-year terms\, and officers 1 year. Officer positions include President\, Vice President\, Secretary\, and Treasurer.\nIf you’re interested in any of the positions\, please email lpbaofficers@gmail.com
URL:https://lakeplacidbusinessassociation.com/event/november-meeting-2/
LOCATION:Cambria Hotel\, 2127 Saranac Ave\, Lake Placid\, NY\, 12946
END:VEVENT
BEGIN:VEVENT
DTSTART;TZID=America/New_York:20230613T133000
DTEND;TZID=America/New_York:20230613T160000
DTSTAMP:20260423T160118
CREATED:20230525T233504Z
LAST-MODIFIED:20230525T233504Z
UID:1530-1686663000-1686672000@lakeplacidbusinessassociation.com
SUMMARY:June Meeting
DESCRIPTION:LPBA Members are invited to our June Evening Social! \nSnacks & drinks from 5:30-8pm with brief announcements at 6:30pm.
URL:https://lakeplacidbusinessassociation.com/event/june-meeting/
LOCATION:Generations Tap & Grill\, 2543 Main Street\, Lake Placid\, NY\, 12946
END:VEVENT
BEGIN:VEVENT
DTSTART;TZID=America/New_York:20230509T040000
DTEND;TZID=America/New_York:20230509T050000
DTSTAMP:20260423T160118
CREATED:20230503T004615Z
LAST-MODIFIED:20230503T004905Z
UID:1492-1683604800-1683608400@lakeplacidbusinessassociation.com
SUMMARY:May Meeting
DESCRIPTION:
URL:https://lakeplacidbusinessassociation.com/event/may-meeting/
LOCATION:Lake Placid Baptist Church\, 2253 Saranac Avenue\, Lake Placid\, New York\, 12946
END:VEVENT
BEGIN:VEVENT
DTSTART;TZID=America/New_York:20230418T133000
DTEND;TZID=America/New_York:20230418T160000
DTSTAMP:20260423T160118
CREATED:20230411T225923Z
LAST-MODIFIED:20230411T225923Z
UID:1458-1681824600-1681833600@lakeplacidbusinessassociation.com
SUMMARY:April Meeting
DESCRIPTION:Join us for our April Meeting! \n  \nIt will be a week later than normal to accommodate for break. \n  \nThis meeting will be an evening social at Whiteface Lodge. \nCome mingle with your fellow business partners!
URL:https://lakeplacidbusinessassociation.com/event/april-meeting/
LOCATION:Whiteface Lodge\, 7 Whiteface Inn Ln\, Lake Placid\, NY\, 12946\, United States
END:VEVENT
BEGIN:VEVENT
DTSTART;VALUE=DATE:20230111
DTEND;VALUE=DATE:20230123
DTSTAMP:20260423T160118
CREATED:20220909T194014Z
LAST-MODIFIED:20220909T194014Z
UID:1368-1673463600-1674413999@lakeplacidbusinessassociation.com
SUMMARY:Lake Placid 2023 FISU World University Games
DESCRIPTION:11-Day International Festival & Competition with Ceremonies\, Music\, Culture & Food!
URL:https://lakeplacidbusinessassociation.com/event/lake-placid-2023-fisu-world-university-games/
END:VEVENT
BEGIN:VEVENT
DTSTART;TZID=America/New_York:20221213T030000
DTEND;TZID=America/New_York:20221213T040000
DTSTAMP:20260423T160118
CREATED:20221119T004446Z
LAST-MODIFIED:20221119T004446Z
UID:1438-1670900400-1670904000@lakeplacidbusinessassociation.com
SUMMARY:December Meeting
DESCRIPTION:
URL:https://lakeplacidbusinessassociation.com/event/december-meeting-2/
LOCATION:Lake Placid Baptist Church\, 2253 Saranac Avenue\, Lake Placid\, New York\, 12946
END:VEVENT
BEGIN:VEVENT
DTSTART;VALUE=DATE:20221208
DTEND;VALUE=DATE:20221212
DTSTAMP:20260423T160118
CREATED:20220909T193653Z
LAST-MODIFIED:20220909T193653Z
UID:1366-1670526000-1670785199@lakeplacidbusinessassociation.com
SUMMARY:Holiday Village Stroll
DESCRIPTION:Join the 13th annual Holiday Village Stroll! \nFind the full schedule of events online.
URL:https://lakeplacidbusinessassociation.com/event/holiday-village-stroll-2/
LOCATION:Lake Placid
END:VEVENT
BEGIN:VEVENT
DTSTART;TZID=America/New_York:20221108T123000
DTEND;TZID=America/New_York:20221108T150000
DTSTAMP:20260423T160118
CREATED:20221017T190404Z
LAST-MODIFIED:20221017T190443Z
UID:1411-1667910600-1667919600@lakeplacidbusinessassociation.com
SUMMARY:November Evening Social
DESCRIPTION:Our November meeting will be an evening social – come meet & mingle with your fellow LPBA members! \n  \nLocation: TBD
URL:https://lakeplacidbusinessassociation.com/event/november-evening-social/
END:VEVENT
BEGIN:VEVENT
DTSTART;TZID=America/New_York:20221108T123000
DTEND;TZID=America/New_York:20221108T123000
DTSTAMP:20260423T160118
CREATED:20221017T190600Z
LAST-MODIFIED:20221017T190600Z
UID:1413-1667910600-1667910600@lakeplacidbusinessassociation.com
SUMMARY:Yearly Elections
DESCRIPTION:Up for elections for 2022: three\, 2-year director positions and four officer positions. \nVoting will take place at the November meeting. \nEmail lbaofficers@gmail.com if you’re interested in running.
URL:https://lakeplacidbusinessassociation.com/event/yearly-elections/
END:VEVENT
BEGIN:VEVENT
DTSTART;TZID=America/New_York:20221031T100000
DTEND;TZID=America/New_York:20221031T130000
DTSTAMP:20260423T160118
CREATED:20221017T190753Z
LAST-MODIFIED:20221017T190753Z
UID:1415-1667210400-1667221200@lakeplacidbusinessassociation.com
SUMMARY:Trick or Treating
DESCRIPTION:Trick or Treating is back! \nHand out candy after the parade on October 31. \nPrint Flyer
URL:https://lakeplacidbusinessassociation.com/event/trick-or-treating/
END:VEVENT
BEGIN:VEVENT
DTSTART;TZID=America/New_York:20220913T040000
DTEND;TZID=America/New_York:20220913T050000
DTSTAMP:20260423T160118
CREATED:20220909T193412Z
LAST-MODIFIED:20220909T193734Z
UID:1363-1663041600-1663045200@lakeplacidbusinessassociation.com
SUMMARY:September Meeting
DESCRIPTION:
URL:https://lakeplacidbusinessassociation.com/event/september-meeting/
LOCATION:Golden Arrow Lakeside Resort\, 2559 Main Street\, Lake Placid\, NY\, 12946\, United States
CATEGORIES:LPBA Meetings
END:VEVENT
BEGIN:VEVENT
DTSTART;TZID=America/New_York:20220614T133000
DTEND;TZID=America/New_York:20220614T160000
DTSTAMP:20260423T160119
CREATED:20220526T215252Z
LAST-MODIFIED:20220526T215252Z
UID:1197-1655213400-1655222400@lakeplacidbusinessassociation.com
SUMMARY:June 2022 Meeting
DESCRIPTION:Join us for an evening social brought to you by The Boat!
URL:https://lakeplacidbusinessassociation.com/event/june-2022-meeting/
LOCATION:The Boat Tasting Room\, 2617 Main Street\, Lake Placid\, NY\, 12946
END:VEVENT
BEGIN:VEVENT
DTSTART;TZID=America/New_York:20220412T040000
DTEND;TZID=America/New_York:20220412T050000
DTSTAMP:20260423T160119
CREATED:20220309T233935Z
LAST-MODIFIED:20220309T233935Z
UID:1014-1649736000-1649739600@lakeplacidbusinessassociation.com
SUMMARY:April 2022 Meeting
DESCRIPTION:
URL:https://lakeplacidbusinessassociation.com/event/april-2022-meeting/
LOCATION:Lake Placid Baptist Church\, 2253 Saranac Avenue\, Lake Placid\, New York\, 12946
END:VEVENT
BEGIN:VEVENT
DTSTART;TZID=America/New_York:20220308T030000
DTEND;TZID=America/New_York:20220308T040000
DTSTAMP:20260423T160119
CREATED:20220222T001811Z
LAST-MODIFIED:20220222T001811Z
UID:957-1646708400-1646712000@lakeplacidbusinessassociation.com
SUMMARY:March 2022 Meeting
DESCRIPTION:
URL:https://lakeplacidbusinessassociation.com/event/march-2022-meeting/
LOCATION:Lake Placid Baptist Church\, 2253 Saranac Avenue\, Lake Placid\, New York\, 12946
END:VEVENT
BEGIN:VEVENT
DTSTART;TZID=America/New_York:20220208T030000
DTEND;TZID=America/New_York:20220208T040000
DTSTAMP:20260423T160119
CREATED:20220111T201506Z
LAST-MODIFIED:20220202T235552Z
UID:901-1644289200-1644292800@lakeplacidbusinessassociation.com
SUMMARY:February 2022 Meeting
DESCRIPTION:
URL:https://lakeplacidbusinessassociation.com/event/february-2022-meeting/
LOCATION:Lake Placid Baptist Church\, 2253 Saranac Avenue\, Lake Placid\, New York\, 12946
END:VEVENT
BEGIN:VEVENT
DTSTART;TZID=America/New_York:20220111T030000
DTEND;TZID=America/New_York:20220111T040000
DTSTAMP:20260423T160119
CREATED:20211224T011659Z
LAST-MODIFIED:20211224T011659Z
UID:832-1641870000-1641873600@lakeplacidbusinessassociation.com
SUMMARY:January 2022 Meeting
DESCRIPTION:Location TBD
URL:https://lakeplacidbusinessassociation.com/event/january-2022-meeting/
END:VEVENT
BEGIN:VEVENT
DTSTART;TZID=America/New_York:20211214T030000
DTEND;TZID=America/New_York:20211214T040000
DTSTAMP:20260423T160119
CREATED:20211123T201039Z
LAST-MODIFIED:20211201T013632Z
UID:647-1639450800-1639454400@lakeplacidbusinessassociation.com
SUMMARY:December Meeting
DESCRIPTION:Join us for our December meeting. \n 
URL:https://lakeplacidbusinessassociation.com/event/december-meeting/
LOCATION:Lake Placid Baptist Church\, 2253 Saranac Avenue\, Lake Placid\, New York\, 12946
CATEGORIES:LPBA Meetings
END:VEVENT
BEGIN:VEVENT
DTSTART;VALUE=DATE:20211209
DTEND;VALUE=DATE:20211213
DTSTAMP:20260423T160119
CREATED:20211105T015250Z
LAST-MODIFIED:20211105T023434Z
UID:642-1639076400-1639335599@lakeplacidbusinessassociation.com
SUMMARY:Holiday Village Stroll
DESCRIPTION:The 12th annual Holiday Village Stroll will take place December 10th – 12th. \n2021 events & activities include: \n\nSkating Party\nUgly Sweater Party\nJingle Bell Run\nThe Grinch at Little Blue House\nSanta at Mids Park\nTree Lighting Celebration\nDouble Axel at the Lake House\nPolar Express Free Showing\nSanta’s Fire Truck Parade\nCraft Kits\nScavenger Hunt
URL:https://lakeplacidbusinessassociation.com/event/holiday-village-stroll/
LOCATION:Lake Placid
ATTACH;FMTTYPE=image/jpeg:https://lakeplacidbusinessassociation.com/wp-content/uploads/2021/11/logo.jpg
END:VEVENT
END:VCALENDAR